BEGIN:VCALENDAR
VERSION:2.0
PRODID:spatie/icalendar-generator
DESCRIPTION:Veranstaltungen von Rotary Club Henstedt-Ulzburg
X-WR-CALDESC:Veranstaltungen von Rotary Club Henstedt-Ulzburg
REFRESH-INTERVAL;VALUE=DURATION:PT1440M
X-PUBLISHED-TTL:PT1440M
BEGIN:VTIMEZONE
TZID:Europe/Berlin
BEGIN:STANDARD
DTSTART:20251026T030000Z
TZOFFSETFROM:+0200
TZOFFSETTO:+0100
END:STANDARD
BEGIN:DAYLIGHT
DTSTART:20260329T020000Z
TZOFFSETFROM:+0100
TZOFFSETTO:+0200
END:DAYLIGHT
END:VTIMEZONE
BEGIN:VTIMEZONE
TZID:UTC
BEGIN:STANDARD
DTSTART:20250727T031032Z
TZOFFSETFROM:+0000
TZOFFSETTO:+0000
END:STANDARD
END:VTIMEZONE
BEGIN:VEVENT
UID:55-8
DTSTAMP:20260423T031032Z
SUMMARY:Kauf eins mehr!
LOCATION:EDEKA Oertwig  Dammstücken 29-33  Henstedt Ulzburg  24558
ORGANIZER;CN=Team RC H-U:MAILTO:m-hoppe@gmx.de
DTSTART;TZID=Europe/Berlin:20260131T080000
DTEND;TZID=Europe/Berlin:20260131T160000
X-ALT-DESC;FMTTYPE=TEXT/HTML:Wir sammeln Lebensmittel und Artikel des tägl
 ichen Bedarfs für die Tafeln in Norderstedt! Hier geht es zum Einkaufszet
 tel.
CATEGORIES:Aktionen
URL;VALUE=URI:https://rc-hu.de/mc-events/kauf-eins-mehr/
METHOD:PUBLISH
END:VEVENT
END:VCALENDAR